Workbook

Sheet Gotowe
A3: Etykiety wierszy | B3: Suma z Plan sprzedaży | C3: Suma z Wartośc sprzedaży | D3: Suma z % wykonanie planu
A4: Kowalski | B4: 63000 | C4: 75250 | D4: 2.4212931
A5: Nowotny | B5: 35000 | C5: 52441 | D5: 1.4983143
A6: Zamojska | B6: 26000 | C6: 32846 | D6: 1.2633077
A7: Słoneczna | B7: 28000 | C7: 34778 | D7: 1.2420714
A8: Marwinski | B8: 29000 | C8: 34211 | D8: 1.1796897
A9: Brzoza | B9: 37000 | C9: 43220 | D9: 1.1681081
A10: Beskidzka | B10: 29000 | C10: 33453 | D10: 1.1535517
A11: Starzykowski | B11: 30000 | C11: 33223 | D11: 1.1074333
A12: Wierzba | B12: 33000 | C12: 35662 | D12: 1.0806667
A13: Nowakakowski | B13: 33000 | C13: 34567 | D13: 1.0474848
A14: Krzaczasty | B14: 43000 | C14: 42918 | D14: 0.99809302
A15: Krakowski | B15: 36000 | C15: 35423 | D15: 0.98397222
... A28: Suma końcowa | B28: 861000 | C28: 780901 | D28: 23.197951
A32: Copyright © 2025 lubieExcela.pl

Sheet Arkusz do ćwiczeń
A3: Etykiety wierszy | B3: Suma z Plan sprzedaży | C3: Suma z Wartośc sprzedaży | D3: Suma z % wykonanie planu
A4: Beskidzka | B4: 29000 | C4: 33453 | D4: 1.1535517
A5: Brenny | B5: 39000 | C5: 35612 | D5: 0.91312821
A6: Brzoza | B6: 37000 | C6: 43220 | D6: 1.1681081
A7: Chełmiński | B7: 39000 | C7: 22332 | D7: 0.57261538
A8: Dąb | B8: 34000 | C8: 12224 | D8: 0.35952941
A9: Gruszka | B9: 28000 | C9: 14352 | D9: 0.51257143
A10: Jabłoński | B10: 27000 | C10: 23532 | D10: 0.87155556
A11: Kowalska | B11: 43000 | C11: 23432 | D11: 0.54493023
A12: Kowalski | B12: 63000 | C12: 75250 | D12: 2.4212931
A13: Krakowski | B13: 36000 | C13: 35423 | D13: 0.98397222
A14: Kramer | B14: 40000 | C14: 37885 | D14: 0.947125
A15: Krzaczasty | B15: 43000 | C15: 42918 | D15: 0.99809302
... A28: Suma końcowa | B28: 861000 | C28: 780901 | D28: 23.197951
A33: Copyright © 2025 lubieExcela.pl

Sheet Zadanie domowe
A3: Etykiety wierszy | B3: Suma z Wartośc sprzedaży | C3: Suma z Plan sprzedaży | D3: Suma z Wynagrodzenie | E3: Suma z % wykonanie planu | G3: Zadanie:
A4: Beskidzka | B4: 33453 | C4: 29000 | D4: 3400 | E4: 1.1535517 | G4: Za pomocą formatowania warunkowego wyświetl w
A5: Brenny | B5: 35612 | C5: 39000 | D5: 3400 | E5: 0.91312821 | G5: kolumnie Suma z % wykonanie planu ikony
A6: Brzoza | B6: 43220 | C6: 37000 | D6: 3400 | E6: 1.1681081 | G6: wg. legendy
A7: Chełmiński | B7: 22332 | C7: 39000 | D7: 3400 | E7: 0.57261538 | J7: Legenda:
A8: Dąb | B8: 12224 | C8: 34000 | D8: 3400 | E8: 0.35952941 | J8: 1
A9: Gruszka | B9: 14352 | C9: 28000 | D9: 3400 | E9: 0.51257143 | J9: 0.5
A10: Jabłoński | B10: 23532 | C10: 27000 | D10: 3400 | E10: 0.87155556 | J10: 0.49
A11: Kowalska | B11: 23432 | C11: 43000 | D11: 3400 | E11: 0.54493023
A12: Kowalski | B12: 75250 | C12: 63000 | D12: 6800 | E12: 2.4212931
A13: Krakowski | B13: 35423 | C13: 36000 | D13: 3400 | E13: 0.98397222
A14: Kramer | B14: 37885 | C14: 40000 | D14: 3400 | E14: 0.947125
A15: Krzaczasty | B15: 42918 | C15: 43000 | D15: 3400 | E15: 0.99809302
A16: Lenna | B16: 39881 | C16: 42000 | D16: 3400 | E16: 0.94954762
A17: Marwinski | B17: 34211 | C17: 29000 | D17: 3400 | E17: 1.1796897
A18: Mot | B18: 34776 | C18: 38000 | D18: 3400 | E18: 0.91515789
A19: Nowak | B19: 12763 | C19: 39000 | D19: 3400 | E19: 0.32725641
A20: Nowakakowski | B20: 34567 | C20: 33000 | D20: 3400 | E20: 1.0474848
A21: Nowotny | B21: 52441 | C21: 35000 | D21: 3400 | E21: 1.4983143
A22: Słoneczna | B22: 34778 | C22: 28000 | D22: 3400 | E22: 1.2420714
... A28: Suma końcowa | B28: 780901 | C28: 861000 | D28: 85000 | E28: 23.197951
A33: Copyright © 2025 lubieExcela.pl

Sheet WYSZUKAJ.PIONOWO zamiast JEŻELI
D1: Dariusz Popadeńczuk | F1: email: | G1: info@lubieExcela.pl | I1: tel. | J1: 517800260
B2: =_xlfn.IMAGE("https://lubieexcela.pl/wp-content/uploads/2023/03/logo-lubieExcela-148x88-new-2.png") -> #VALUE! | D2: Szkolenia, kursy, porady, pomoc w Excelu | G2: WYSZUKAJ.PIONOWO zamiast zagnieżonego JEŻELI
O6: =o!F2
B7: L.P. | C7: Imię | D7: Nazwisko | E7: Wynagrodzenie | F7: Plan sprzedaży | G7: Wartośc sprzedaży | H7: % wykonanie planu | I7: Wykonany plan TAK / NIE | J7: Wartość premii | K7: Wynagrodzenie całkowite | M7: tabela premiowa
B8: 1 | C8: Jan | D8: Nowak | E8: 3400 | F8: 39000 | G8: 12763 | H8: =G8/F8 -> 0.32725641 | I8: =IF(H8>=100%,"TAK","NIE") -> NIE | J8: =IFERROR(VLOOKUP(H8,$M$9:$N$13,2),0) -> 0 | K8: =E8+(E8*J8) -> 3400 | M8: wykonanie | N8: premia | O8: =IF(o!C3="","","Kolumna I: "&o!C3) | P8: =IF(o!F3="","","Kolumna J: "&o!F3)
B9: 2 | C9: Adrian | D9: Gruszka | E9: 3400 | F9: 28000 | G9: 14352 | H9: =G9/F9 -> 0.51257143 | I9: =IF(H9>=100%,"TAK","NIE") -> NIE | J9: =IFERROR(VLOOKUP(H9,$M$9:$N$13,2),0) -> 0 | K9: =E9+(E9*J9) -> 3400 | M9: 0.8 | N9: 0.2 | O9: =IF(o!C4="","","Kolumna I: "&o!C4) | P9: =IF(o!F4="","","Kolumna J: "&o!F4)
B10: 3 | C10: Izabela | D10: Kowalska | E10: 3400 | F10: 43000 | G10: 23432 | H10: =G10/F10 -> 0.54493023 | I10: =IF(H10>=100%,"TAK","NIE") -> NIE | J10: =IFERROR(VLOOKUP(H10,$M$9:$N$13,2),0) -> 0 | K10: =E10+(E10*J10) -> 3400 | M10: 0.9 | N10: 0.25 | O10: =IF(o!C5="","","Kolumna I: "&o!C5) | P10: =IF(o!F5="","","Kolumna J: "&o!F5)
B11: 4 | C11: Łukasz | D11: Nowakakowski | E11: 3400 | F11: 33000 | G11: 34567 | H11: =G11/F11 -> 1.0474848 | I11: =IF(H11>=100%,"TAK","NIE") -> TAK | J11: =IFERROR(VLOOKUP(H11,$M$9:$N$13,2),0) -> 0.4 | K11: =E11+(E11*J11) -> 4760 | M11: 1 | N11: 0.4 | O11: =IF(o!C6="","","Kolumna I: "&o!C6) | P11: =IF(o!F6="","","Kolumna J: "&o!F6)
B12: 5 | C12: Dariusz | D12: Jabłoński | E12: 3400 | F12: 27000 | G12: 23532 | H12: =G12/F12 -> 0.87155556 | I12: =IF(H12>=100%,"TAK","NIE") -> NIE | J12: =IFERROR(VLOOKUP(H12,$M$9:$N$13,2),0) -> 0.2 | K12: =E12+(E12*J12) -> 4080 | M12: 1.1 | N12: 0.45 | O12: =IF(o!C7="","","Kolumna I: "&o!C7) | P12: =IF(o!F7="","","Kolumna J: "&o!F7)
B13: 6 | C13: Bartosz | D13: Marwinski | E13: 3400 | F13: 29000 | G13: 34211 | H13: =G13/F13 -> 1.1796897 | I13: =IF(H13>=100%,"TAK","NIE") -> TAK | J13: =IFERROR(VLOOKUP(H13,$M$9:$N$13,2),0) -> 0.45 | K13: =E13+(E13*J13) -> 4930 | M13: 1.2 | N13: 0.5 | O13: =IF(o!C8="","","Kolumna I: "&o!C8) | P13: =IF(o!F8="","","Kolumna J: "&o!F8)
B14: 7 | C14: Agata | D14: Stalińska | E14: 3400 | F14: 28000 | G14: 23566 | H14: =G14/F14 -> 0.84164286 | I14: =IF(H14>=100%,"TAK","NIE") -> NIE | J14: =IFERROR(VLOOKUP(H14,$M$9:$N$13,2),0) -> 0.2 | K14: =E14+(E14*J14) -> 4080 | O14: =IF(o!C9="","","Kolumna I: "&o!C9) | P14: =IF(o!F9="","","Kolumna J: "&o!F9)
B15: 8 | C15: Maciej | D15: Dąb | E15: 3400 | F15: 34000 | G15: 12224 | H15: =G15/F15 -> 0.35952941 | I15: =IF(H15>=100%,"TAK","NIE") -> NIE | J15: =IFERROR(VLOOKUP(H15,$M$9:$N$13,2),0) -> 0 | K15: =E15+(E15*J15) -> 3400 | O15: =IF(o!C10="","","Kolumna I: "&o!C10) | P15: =IF(o!F10="","","Kolumna J: "&o!F10)
B16: 9 | C16: Marta | D16: Wierzba | E16: 3400 | F16: 33000 | G16: 35662 | H16: =G16/F16 -> 1.0806667 | I16: =IF(H16>=100%,"TAK","NIE") -> TAK | J16: =IFERROR(VLOOKUP(H16,$M$9:$N$13,2),0) -> 0.4 | K16: =E16+(E16*J16) -> 4760 | O16: =IF(o!C11="","","Kolumna I: "&o!C11) | P16: =IF(o!F11="","","Kolumna J: "&o!F11)
B17: 10 | C17: Hanna | D17: Słoneczna | E17: 3400 | F17: 28000 | G17: 34778 | H17: =G17/F17 -> 1.2420714 | I17: =IF(H17>=100%,"TAK","NIE") -> TAK | J17: =IFERROR(VLOOKUP(H17,$M$9:$N$13,2),0) -> 0.5 | K17: =E17+(E17*J17) -> 5100 | O17: =IF(o!C12="","","Kolumna I: "&o!C12) | P17: =IF(o!F12="","","Kolumna J: "&o!F12)
B18: 11 | C18: Agnieszka | D18: Brzoza | E18: 3400 | F18: 37000 | G18: 43220 | H18: =G18/F18 -> 1.1681081 | I18: =IF(H18>=100%,"TAK","NIE") -> TAK | J18: =IFERROR(VLOOKUP(H18,$M$9:$N$13,2),0) -> 0.45 | K18: =E18+(E18*J18) -> 4930 | O18: =IF(o!C13="","","Kolumna I: "&o!C13) | P18: =IF(o!F13="","","Kolumna J: "&o!F13)
B19: 12 | C19: Piotr | D19: Chełmiński | E19: 3400 | F19: 39000 | G19: 22332 | H19: =G19/F19 -> 0.57261538 | I19: =IF(H19>=100%,"TAK","NIE") -> NIE | J19: =IFERROR(VLOOKUP(H19,$M$9:$N$13,2),0) -> 0 | K19: =E19+(E19*J19) -> 3400 | O19: =IF(o!C14="","","Kolumna I: "&o!C14) | P19: =IF(o!F14="","","Kolumna J: "&o!F14)
B20: 13 | C20: Wojciech | D20: Nowotny | E20: 3400 | F20: 35000 | G20: 52441 | H20: =G20/F20 -> 1.4983143 | I20: =IF(H20>=100%,"TAK","NIE") -> TAK | J20: =IFERROR(VLOOKUP(H20,$M$9:$N$13,2),0) -> 0.5 | K20: =E20+(E20*J20) -> 5100 | O20: =IF(o!C15="","","Kolumna I: "&o!C15) | P20: =IF(o!F15="","","Kolumna J: "&o!F15)
B21: 14 | C21: Kamil | D21: Kowalski | E21: 3400 | F21: 34000 | G21: 34221 | H21: =G21/F21 -> 1.0065 | I21: =IF(H21>=100%,"TAK","NIE") -> TAK | J21: =IFERROR(VLOOKUP(H21,$M$9:$N$13,2),0) -> 0.4 | K21: =E21+(E21*J21) -> 4760 | O21: =IF(o!C16="","","Kolumna I: "&o!C16) | P21: =IF(o!F16="","","Kolumna J: "&o!F16)
B22: 15 | C22: Adam | D22: Zadworny | E22: 3400 | F22: 42000 | G22: 12554 | H22: =G22/F22 -> 0.29890476 | I22: =IF(H22>=100%,"TAK","NIE") -> NIE | J22: =IFERROR(VLOOKUP(H22,$M$9:$N$13,2),0) -> 0 | K22: =E22+(E22*J22) -> 3400 | O22: =IF(o!C17="","","Kolumna I: "&o!C17) | P22: =IF(o!F17="","","Kolumna J: "&o!F17)
B23: 16 | C23: Katarzyna | D23: Beskidzka | E23: 3400 | F23: 29000 | G23: 33453 | H23: =G23/F23 -> 1.1535517 | I23: =IF(H23>=100%,"TAK","NIE") -> TAK | J23: =IFERROR(VLOOKUP(H23,$M$9:$N$13,2),0) -> 0.45 | K23: =E23+(E23*J23) -> 4930 | O23: =IF(o!C18="","","Kolumna I: "&o!C18) | P23: =IF(o!F18="","","Kolumna J: "&o!F18)
B24: 17 | C24: Agnieszka | D24: Lenna | E24: 3400 | F24: 42000 | G24: 39881 | H24: =G24/F24 -> 0.94954762 | I24: =IF(H24>=100%,"TAK","NIE") -> NIE | J24: =IFERROR(VLOOKUP(H24,$M$9:$N$13,2),0) -> 0.25 | K24: =E24+(E24*J24) -> 4250 | O24: =IF(o!C19="","","Kolumna I: "&o!C19) | P24: =IF(o!F19="","","Kolumna J: "&o!F19)
B25: 18 | C25: Agata | D25: Kramer | E25: 3400 | F25: 40000 | G25: 37885 | H25: =G25/F25 -> 0.947125 | I25: =IF(H25>=100%,"TAK","NIE") -> NIE | J25: =IFERROR(VLOOKUP(H25,$M$9:$N$13,2),0) -> 0.25 | K25: =E25+(E25*J25) -> 4250 | O25: =IF(o!C20="","","Kolumna I: "&o!C20) | P25: =IF(o!F20="","","Kolumna J: "&o!F20)
... B32: 25 | C32: Bartosz | D32: Mot | E32: 3400 | F32: 38000 | G32: 34776 | H32: =G32/F32 -> 0.91515789 | I32: =IF(H32>=100%,"TAK","NIE") -> NIE | J32: =IFERROR(VLOOKUP(H32,$M$9:$N$13,2),0) -> 0.25 | K32: =E32+(E32*J32) -> 4250 | O32: =IF(o!C27="","","Kolumna I: "&o!C27) | P32: =IF(o!F27="","","Kolumna J: "&o!F27)
A37: Copyright © 2025 lubieExcela.pl

Sheet o
A1: Sprawdzanie błędów © 2019 lubieExcela.pl | Dariusz Popadeńczuk | H1: W formule jest błąd!
F2: =IF('WYSZUKAJ.PIONOWO zamiast JEŻELI'!M9=120%,"Złe sortowanie","")
A3: =IF('WYSZUKAJ.PIONOWO zamiast JEŻELI'!$I8="","",_xlfn.FORMULATEXT('WYSZUKAJ.PIONOWO zamiast JEŻELI'!$I8)) -> =JEŻELI(H8>=100%;"TAK";"NIE") | B3: ={"=JEŻELI(H8>=100%;""TAK"";""NIE"")"} -> =JEŻELI(H8>=100%;"TAK";"NIE") | C3: =IFERROR(IF(A3="","",IF(A3=B3,"",$H$1)),$H$1) | D3: =IF('WYSZUKAJ.PIONOWO zamiast JEŻELI'!$J8="","",_xlfn.FORMULATEXT('WYSZUKAJ.PIONOWO zamiast JEŻELI'!$J8)) -> =JEŻELI.BŁĄD(WYSZUKAJ.PIONOWO(H8;$M$9:$N$13;2);0) | E3: ={"=JEŻELI.BŁĄD(WYSZUKAJ.PIONOWO(H8;$M$9:$N$13;2);0)"} -> =JEŻELI.BŁĄD(WYSZUKAJ.PIONOWO(H8;$M$9:$N$13;2);0) | F3: =IFERROR(IF(D3="","",IF(D3=E3,"",$H$1)),$H$1)
A4: =IF('WYSZUKAJ.PIONOWO zamiast JEŻELI'!$I9="","",_xlfn.FORMULATEXT('WYSZUKAJ.PIONOWO zamiast JEŻELI'!$I9)) -> =JEŻELI(H9>=100%;"TAK";"NIE") | B4: ={"=JEŻELI(H9>=100%;""TAK"";""NIE"")"} -> =JEŻELI(H9>=100%;"TAK";"NIE") | C4: =IFERROR(IF(A4="","",IF(A4=B4,"",$H$1)),$H$1) | D4: =IF('WYSZUKAJ.PIONOWO zamiast JEŻELI'!$J9="","",_xlfn.FORMULATEXT('WYSZUKAJ.PIONOWO zamiast JEŻELI'!$J9)) -> =JEŻELI.BŁĄD(WYSZUKAJ.PIONOWO(H9;$M$9:$N$13;2);0) | E4: ={"=JEŻELI.BŁĄD(WYSZUKAJ.PIONOWO(H9;$M$9:$N$13;2);0)"} -> =JEŻELI.BŁĄD(WYSZUKAJ.PIONOWO(H9;$M$9:$N$13;2);0) | F4: =IFERROR(IF(D4="","",IF(D4=E4,"",$H$1)),$H$1)
A5: =IF('WYSZUKAJ.PIONOWO zamiast JEŻELI'!$I10="","",_xlfn.FORMULATEXT('WYSZUKAJ.PIONOWO zamiast JEŻELI'!$I10)) -> =JEŻELI(H10>=100%;"TAK";"NIE") | B5: ={"=JEŻELI(H10>=100%;""TAK"";""NIE"")"} -> =JEŻELI(H10>=100%;"TAK";"NIE") | C5: =IFERROR(IF(A5="","",IF(A5=B5,"",$H$1)),$H$1) | D5: =IF('WYSZUKAJ.PIONOWO zamiast JEŻELI'!$J10="","",_xlfn.FORMULATEXT('WYSZUKAJ.PIONOWO zamiast JEŻELI'!$J10)) -> =JEŻELI.BŁĄD(WYSZUKAJ.PIONOWO(H10;$M$9:$N$13;2);0) | E5: ={"=JEŻELI.BŁĄD(WYSZUKAJ.PIONOWO(H10;$M$9:$N$13;2);0)"} -> =JEŻELI.BŁĄD(WYSZUKAJ.PIONOWO(H10;$M$9:$N$13;2);0) | F5: =IFERROR(IF(D5="","",IF(D5=E5,"",$H$1)),$H$1)
A6: =IF('WYSZUKAJ.PIONOWO zamiast JEŻELI'!$I11="","",_xlfn.FORMULATEXT('WYSZUKAJ.PIONOWO zamiast JEŻELI'!$I11)) -> =JEŻELI(H11>=100%;"TAK";"NIE") | B6: ={"=JEŻELI(H11>=100%;""TAK"";""NIE"")"} -> =JEŻELI(H11>=100%;"TAK";"NIE") | C6: =IFERROR(IF(A6="","",IF(A6=B6,"",$H$1)),$H$1) | D6: =IF('WYSZUKAJ.PIONOWO zamiast JEŻELI'!$J11="","",_xlfn.FORMULATEXT('WYSZUKAJ.PIONOWO zamiast JEŻELI'!$J11)) -> =JEŻELI.BŁĄD(WYSZUKAJ.PIONOWO(H11;$M$9:$N$13;2);0) | E6: ={"=JEŻELI.BŁĄD(WYSZUKAJ.PIONOWO(H11;$M$9:$N$13;2);0)"} -> =JEŻELI.BŁĄD(WYSZUKAJ.PIONOWO(H11;$M$9:$N$13;2);0) | F6: =IFERROR(IF(D6="","",IF(D6=E6,"",$H$1)),$H$1)
A7: =IF('WYSZUKAJ.PIONOWO zamiast JEŻELI'!$I12="","",_xlfn.FORMULATEXT('WYSZUKAJ.PIONOWO zamiast JEŻELI'!$I12)) -> =JEŻELI(H12>=100%;"TAK";"NIE") | B7: ={"=JEŻELI(H12>=100%;""TAK"";""NIE"")"} -> =JEŻELI(H12>=100%;"TAK";"NIE") | C7: =IFERROR(IF(A7="","",IF(A7=B7,"",$H$1)),$H$1) | D7: =IF('WYSZUKAJ.PIONOWO zamiast JEŻELI'!$J12="","",_xlfn.FORMULATEXT('WYSZUKAJ.PIONOWO zamiast JEŻELI'!$J12)) -> =JEŻELI.BŁĄD(WYSZUKAJ.PIONOWO(H12;$M$9:$N$13;2);0) | E7: ={"=JEŻELI.BŁĄD(WYSZUKAJ.PIONOWO(H12;$M$9:$N$13;2);0)"} -> =JEŻELI.BŁĄD(WYSZUKAJ.PIONOWO(H12;$M$9:$N$13;2);0) | F7: =IFERROR(IF(D7="","",IF(D7=E7,"",$H$1)),$H$1)
A8: =IF('WYSZUKAJ.PIONOWO zamiast JEŻELI'!$I13="","",_xlfn.FORMULATEXT('WYSZUKAJ.PIONOWO zamiast JEŻELI'!$I13)) -> =JEŻELI(H13>=100%;"TAK";"NIE") | B8: ={"=JEŻELI(H13>=100%;""TAK"";""NIE"")"} -> =JEŻELI(H13>=100%;"TAK";"NIE") | C8: =IFERROR(IF(A8="","",IF(A8=B8,"",$H$1)),$H$1) | D8: =IF('WYSZUKAJ.PIONOWO zamiast JEŻELI'!$J13="","",_xlfn.FORMULATEXT('WYSZUKAJ.PIONOWO zamiast JEŻELI'!$J13)) -> =JEŻELI.BŁĄD(WYSZUKAJ.PIONOWO(H13;$M$9:$N$13;2);0) | E8: ={"=JEŻELI.BŁĄD(WYSZUKAJ.PIONOWO(H13;$M$9:$N$13;2);0)"} -> =JEŻELI.BŁĄD(WYSZUKAJ.PIONOWO(H13;$M$9:$N$13;2);0) | F8: =IFERROR(IF(D8="","",IF(D8=E8,"",$H$1)),$H$1)
A9: =IF('WYSZUKAJ.PIONOWO zamiast JEŻELI'!$I14="","",_xlfn.FORMULATEXT('WYSZUKAJ.PIONOWO zamiast JEŻELI'!$I14)) -> =JEŻELI(H14>=100%;"TAK";"NIE") | B9: ={"=JEŻELI(H14>=100%;""TAK"";""NIE"")"} -> =JEŻELI(H14>=100%;"TAK";"NIE") | C9: =IFERROR(IF(A9="","",IF(A9=B9,"",$H$1)),$H$1) | D9: =IF('WYSZUKAJ.PIONOWO zamiast JEŻELI'!$J14="","",_xlfn.FORMULATEXT('WYSZUKAJ.PIONOWO zamiast JEŻELI'!$J14)) -> =JEŻELI.BŁĄD(WYSZUKAJ.PIONOWO(H14;$M$9:$N$13;2);0) | E9: ={"=JEŻELI.BŁĄD(WYSZUKAJ.PIONOWO(H14;$M$9:$N$13;2);0)"} -> =JEŻELI.BŁĄD(WYSZUKAJ.PIONOWO(H14;$M$9:$N$13;2);0) | F9: =IFERROR(IF(D9="","",IF(D9=E9,"",$H$1)),$H$1)
A10: =IF('WYSZUKAJ.PIONOWO zamiast JEŻELI'!$I15="","",_xlfn.FORMULATEXT('WYSZUKAJ.PIONOWO zamiast JEŻELI'!$I15)) -> =JEŻELI(H15>=100%;"TAK";"NIE") | B10: ={"=JEŻELI(H15>=100%;""TAK"";""NIE"")"} -> =JEŻELI(H15>=100%;"TAK";"NIE") | C10: =IFERROR(IF(A10="","",IF(A10=B10,"",$H$1)),$H$1) | D10: =IF('WYSZUKAJ.PIONOWO zamiast JEŻELI'!$J15="","",_xlfn.FORMULATEXT('WYSZUKAJ.PIONOWO zamiast JEŻELI'!$J15)) -> =JEŻELI.BŁĄD(WYSZUKAJ.PIONOWO(H15;$M$9:$N$13;2);0) | E10: ={"=JEŻELI.BŁĄD(WYSZUKAJ.PIONOWO(H15;$M$9:$N$13;2);0)"} -> =JEŻELI.BŁĄD(WYSZUKAJ.PIONOWO(H15;$M$9:$N$13;2);0) | F10: =IFERROR(IF(D10="","",IF(D10=E10,"",$H$1)),$H$1)
A11: =IF('WYSZUKAJ.PIONOWO zamiast JEŻELI'!$I16="","",_xlfn.FORMULATEXT('WYSZUKAJ.PIONOWO zamiast JEŻELI'!$I16)) -> =JEŻELI(H16>=100%;"TAK";"NIE") | B11: ={"=JEŻELI(H16>=100%;""TAK"";""NIE"")"} -> =JEŻELI(H16>=100%;"TAK";"NIE") | C11: =IFERROR(IF(A11="","",IF(A11=B11,"",$H$1)),$H$1) | D11: =IF('WYSZUKAJ.PIONOWO zamiast JEŻELI'!$J16="","",_xlfn.FORMULATEXT('WYSZUKAJ.PIONOWO zamiast JEŻELI'!$J16)) -> =JEŻELI.BŁĄD(WYSZUKAJ.PIONOWO(H16;$M$9:$N$13;2);0) | E11: ={"=JEŻELI.BŁĄD(WYSZUKAJ.PIONOWO(H16;$M$9:$N$13;2);0)"} -> =JEŻELI.BŁĄD(WYSZUKAJ.PIONOWO(H16;$M$9:$N$13;2);0) | F11: =IFERROR(IF(D11="","",IF(D11=E11,"",$H$1)),$H$1)
A12: =IF('WYSZUKAJ.PIONOWO zamiast JEŻELI'!$I17="","",_xlfn.FORMULATEXT('WYSZUKAJ.PIONOWO zamiast JEŻELI'!$I17)) -> =JEŻELI(H17>=100%;"TAK";"NIE") | B12: ={"=JEŻELI(H17>=100%;""TAK"";""NIE"")"} -> =JEŻELI(H17>=100%;"TAK";"NIE") | C12: =IFERROR(IF(A12="","",IF(A12=B12,"",$H$1)),$H$1) | D12: =IF('WYSZUKAJ.PIONOWO zamiast JEŻELI'!$J17="","",_xlfn.FORMULATEXT('WYSZUKAJ.PIONOWO zamiast JEŻELI'!$J17)) -> =JEŻELI.BŁĄD(WYSZUKAJ.PIONOWO(H17;$M$9:$N$13;2);0) | E12: ={"=JEŻELI.BŁĄD(WYSZUKAJ.PIONOWO(H17;$M$9:$N$13;2);0)"} -> =JEŻELI.BŁĄD(WYSZUKAJ.PIONOWO(H17;$M$9:$N$13;2);0) | F12: =IFERROR(IF(D12="","",IF(D12=E12,"",$H$1)),$H$1)
A13: =IF('WYSZUKAJ.PIONOWO zamiast JEŻELI'!$I18="","",_xlfn.FORMULATEXT('WYSZUKAJ.PIONOWO zamiast JEŻELI'!$I18)) -> =JEŻELI(H18>=100%;"TAK";"NIE") | B13: ={"=JEŻELI(H18>=100%;""TAK"";""NIE"")"} -> =JEŻELI(H18>=100%;"TAK";"NIE") | C13: =IFERROR(IF(A13="","",IF(A13=B13,"",$H$1)),$H$1) | D13: =IF('WYSZUKAJ.PIONOWO zamiast JEŻELI'!$J18="","",_xlfn.FORMULATEXT('WYSZUKAJ.PIONOWO zamiast JEŻELI'!$J18)) -> =JEŻELI.BŁĄD(WYSZUKAJ.PIONOWO(H18;$M$9:$N$13;2);0) | E13: ={"=JEŻELI.BŁĄD(WYSZUKAJ.PIONOWO(H18;$M$9:$N$13;2);0)"} -> =JEŻELI.BŁĄD(WYSZUKAJ.PIONOWO(H18;$M$9:$N$13;2);0) | F13: =IFERROR(IF(D13="","",IF(D13=E13,"",$H$1)),$H$1)
A14: =IF('WYSZUKAJ.PIONOWO zamiast JEŻELI'!$I19="","",_xlfn.FORMULATEXT('WYSZUKAJ.PIONOWO zamiast JEŻELI'!$I19)) -> =JEŻELI(H19>=100%;"TAK";"NIE") | B14: ={"=JEŻELI(H19>=100%;""TAK"";""NIE"")"} -> =JEŻELI(H19>=100%;"TAK";"NIE") | C14: =IFERROR(IF(A14="","",IF(A14=B14,"",$H$1)),$H$1) | D14: =IF('WYSZUKAJ.PIONOWO zamiast JEŻELI'!$J19="","",_xlfn.FORMULATEXT('WYSZUKAJ.PIONOWO zamiast JEŻELI'!$J19)) -> =JEŻELI.BŁĄD(WYSZUKAJ.PIONOWO(H19;$M$9:$N$13;2);0) | E14: ={"=JEŻELI.BŁĄD(WYSZUKAJ.PIONOWO(H19;$M$9:$N$13;2);0)"} -> =JEŻELI.BŁĄD(WYSZUKAJ.PIONOWO(H19;$M$9:$N$13;2);0) | F14: =IFERROR(IF(D14="","",IF(D14=E14,"",$H$1)),$H$1)
A15: =IF('WYSZUKAJ.PIONOWO zamiast JEŻELI'!$I20="","",_xlfn.FORMULATEXT('WYSZUKAJ.PIONOWO zamiast JEŻELI'!$I20)) -> =JEŻELI(H20>=100%;"TAK";"NIE") | B15: ={"=JEŻELI(H20>=100%;""TAK"";""NIE"")"} -> =JEŻELI(H20>=100%;"TAK";"NIE") | C15: =IFERROR(IF(A15="","",IF(A15=B15,"",$H$1)),$H$1) | D15: =IF('WYSZUKAJ.PIONOWO zamiast JEŻELI'!$J20="","",_xlfn.FORMULATEXT('WYSZUKAJ.PIONOWO zamiast JEŻELI'!$J20)) -> =JEŻELI.BŁĄD(WYSZUKAJ.PIONOWO(H20;$M$9:$N$13;2);0) | E15: ={"=JEŻELI.BŁĄD(WYSZUKAJ.PIONOWO(H20;$M$9:$N$13;2);0)"} -> =JEŻELI.BŁĄD(WYSZUKAJ.PIONOWO(H20;$M$9:$N$13;2);0) | F15: =IFERROR(IF(D15="","",IF(D15=E15,"",$H$1)),$H$1)
A16: =IF('WYSZUKAJ.PIONOWO zamiast JEŻELI'!$I21="","",_xlfn.FORMULATEXT('WYSZUKAJ.PIONOWO zamiast JEŻELI'!$I21)) -> =JEŻELI(H21>=100%;"TAK";"NIE") | B16: ={"=JEŻELI(H21>=100%;""TAK"";""NIE"")"} -> =JEŻELI(H21>=100%;"TAK";"NIE") | C16: =IFERROR(IF(A16="","",IF(A16=B16,"",$H$1)),$H$1) | D16: =IF('WYSZUKAJ.PIONOWO zamiast JEŻELI'!$J21="","",_xlfn.FORMULATEXT('WYSZUKAJ.PIONOWO zamiast JEŻELI'!$J21)) -> =JEŻELI.BŁĄD(WYSZUKAJ.PIONOWO(H21;$M$9:$N$13;2);0) | E16: ={"=JEŻELI.BŁĄD(WYSZUKAJ.PIONOWO(H21;$M$9:$N$13;2);0)"} -> =JEŻELI.BŁĄD(WYSZUKAJ.PIONOWO(H21;$M$9:$N$13;2);0) | F16: =IFERROR(IF(D16="","",IF(D16=E16,"",$H$1)),$H$1)
A17: =IF('WYSZUKAJ.PIONOWO zamiast JEŻELI'!$I22="","",_xlfn.FORMULATEXT('WYSZUKAJ.PIONOWO zamiast JEŻELI'!$I22)) -> =JEŻELI(H22>=100%;"TAK";"NIE") | B17: ={"=JEŻELI(H22>=100%;""TAK"";""NIE"")"} -> =JEŻELI(H22>=100%;"TAK";"NIE") | C17: =IFERROR(IF(A17="","",IF(A17=B17,"",$H$1)),$H$1) | D17: =IF('WYSZUKAJ.PIONOWO zamiast JEŻELI'!$J22="","",_xlfn.FORMULATEXT('WYSZUKAJ.PIONOWO zamiast JEŻELI'!$J22)) -> =JEŻELI.BŁĄD(WYSZUKAJ.PIONOWO(H22;$M$9:$N$13;2);0) | E17: ={"=JEŻELI.BŁĄD(WYSZUKAJ.PIONOWO(H22;$M$9:$N$13;2);0)"} -> =JEŻELI.BŁĄD(WYSZUKAJ.PIONOWO(H22;$M$9:$N$13;2);0) | F17: =IFERROR(IF(D17="","",IF(D17=E17,"",$H$1)),$H$1)
A18: =IF('WYSZUKAJ.PIONOWO zamiast JEŻELI'!$I23="","",_xlfn.FORMULATEXT('WYSZUKAJ.PIONOWO zamiast JEŻELI'!$I23)) -> =JEŻELI(H23>=100%;"TAK";"NIE") | B18: ={"=JEŻELI(H23>=100%;""TAK"";""NIE"")"} -> =JEŻELI(H23>=100%;"TAK";"NIE") | C18: =IFERROR(IF(A18="","",IF(A18=B18,"",$H$1)),$H$1) | D18: =IF('WYSZUKAJ.PIONOWO zamiast JEŻELI'!$J23="","",_xlfn.FORMULATEXT('WYSZUKAJ.PIONOWO zamiast JEŻELI'!$J23)) -> =JEŻELI.BŁĄD(WYSZUKAJ.PIONOWO(H23;$M$9:$N$13;2);0) | E18: ={"=JEŻELI.BŁĄD(WYSZUKAJ.PIONOWO(H23;$M$9:$N$13;2);0)"} -> =JEŻELI.BŁĄD(WYSZUKAJ.PIONOWO(H23;$M$9:$N$13;2);0) | F18: =IFERROR(IF(D18="","",IF(D18=E18,"",$H$1)),$H$1)
A19: =IF('WYSZUKAJ.PIONOWO zamiast JEŻELI'!$I24="","",_xlfn.FORMULATEXT('WYSZUKAJ.PIONOWO zamiast JEŻELI'!$I24)) -> =JEŻELI(H24>=100%;"TAK";"NIE") | B19: ={"=JEŻELI(H24>=100%;""TAK"";""NIE"")"} -> =JEŻELI(H24>=100%;"TAK";"NIE") | C19: =IFERROR(IF(A19="","",IF(A19=B19,"",$H$1)),$H$1) | D19: =IF('WYSZUKAJ.PIONOWO zamiast JEŻELI'!$J24="","",_xlfn.FORMULATEXT('WYSZUKAJ.PIONOWO zamiast JEŻELI'!$J24)) -> =JEŻELI.BŁĄD(WYSZUKAJ.PIONOWO(H24;$M$9:$N$13;2);0) | E19: ={"=JEŻELI.BŁĄD(WYSZUKAJ.PIONOWO(H24;$M$9:$N$13;2);0)"} -> =JEŻELI.BŁĄD(WYSZUKAJ.PIONOWO(H24;$M$9:$N$13;2);0) | F19: =IFERROR(IF(D19="","",IF(D19=E19,"",$H$1)),$H$1)
A20: =IF('WYSZUKAJ.PIONOWO zamiast JEŻELI'!$I25="","",_xlfn.FORMULATEXT('WYSZUKAJ.PIONOWO zamiast JEŻELI'!$I25)) -> =JEŻELI(H25>=100%;"TAK";"NIE") | B20: ={"=JEŻELI(H25>=100%;""TAK"";""NIE"")"} -> =JEŻELI(H25>=100%;"TAK";"NIE") | C20: =IFERROR(IF(A20="","",IF(A20=B20,"",$H$1)),$H$1) | D20: =IF('WYSZUKAJ.PIONOWO zamiast JEŻELI'!$J25="","",_xlfn.FORMULATEXT('WYSZUKAJ.PIONOWO zamiast JEŻELI'!$J25)) -> =JEŻELI.BŁĄD(WYSZUKAJ.PIONOWO(H25;$M$9:$N$13;2);0) | E20: ={"=JEŻELI.BŁĄD(WYSZUKAJ.PIONOWO(H25;$M$9:$N$13;2);0)"} -> =JEŻELI.BŁĄD(WYSZUKAJ.PIONOWO(H25;$M$9:$N$13;2);0) | F20: =IFERROR(IF(D20="","",IF(D20=E20,"",$H$1)),$H$1)
A21: =IF('WYSZUKAJ.PIONOWO zamiast JEŻELI'!$I26="","",_xlfn.FORMULATEXT('WYSZUKAJ.PIONOWO zamiast JEŻELI'!$I26)) -> =JEŻELI(H26>=100%;"TAK";"NIE") | B21: ={"=JEŻELI(H26>=100%;""TAK"";""NIE"")"} -> =JEŻELI(H26>=100%;"TAK";"NIE") | C21: =IFERROR(IF(A21="","",IF(A21=B21,"",$H$1)),$H$1) | D21: =IF('WYSZUKAJ.PIONOWO zamiast JEŻELI'!$J26="","",_xlfn.FORMULATEXT('WYSZUKAJ.PIONOWO zamiast JEŻELI'!$J26)) -> =JEŻELI.BŁĄD(WYSZUKAJ.PIONOWO(H26;$M$9:$N$13;2);0) | E21: ={"=JEŻELI.BŁĄD(WYSZUKAJ.PIONOWO(H26;$M$9:$N$13;2);0)"} -> =JEŻELI.BŁĄD(WYSZUKAJ.PIONOWO(H26;$M$9:$N$13;2);0) | F21: =IFERROR(IF(D21="","",IF(D21=E21,"",$H$1)),$H$1)
A22: =IF('WYSZUKAJ.PIONOWO zamiast JEŻELI'!$I27="","",_xlfn.FORMULATEXT('WYSZUKAJ.PIONOWO zamiast JEŻELI'!$I27)) -> =JEŻELI(H27>=100%;"TAK";"NIE") | B22: ={"=JEŻELI(H27>=100%;""TAK"";""NIE"")"} -> =JEŻELI(H27>=100%;"TAK";"NIE") | C22: =IFERROR(IF(A22="","",IF(A22=B22,"",$H$1)),$H$1) | D22: =IF('WYSZUKAJ.PIONOWO zamiast JEŻELI'!$J27="","",_xlfn.FORMULATEXT('WYSZUKAJ.PIONOWO zamiast JEŻELI'!$J27)) -> =JEŻELI.BŁĄD(WYSZUKAJ.PIONOWO(H27;$M$9:$N$13;2);0) | E22: ={"=JEŻELI.BŁĄD(WYSZUKAJ.PIONOWO(H27;$M$9:$N$13;2);0)"} -> =JEŻELI.BŁĄD(WYSZUKAJ.PIONOWO(H27;$M$9:$N$13;2);0) | F22: =IFERROR(IF(D22="","",IF(D22=E22,"",$H$1)),$H$1)
A23: =IF('WYSZUKAJ.PIONOWO zamiast JEŻELI'!$I28="","",_xlfn.FORMULATEXT('WYSZUKAJ.PIONOWO zamiast JEŻELI'!$I28)) -> =JEŻELI(H28>=100%;"TAK";"NIE") | B23: ={"=JEŻELI(H28>=100%;""TAK"";""NIE"")"} -> =JEŻELI(H28>=100%;"TAK";"NIE") | C23: =IFERROR(IF(A23="","",IF(A23=B23,"",$H$1)),$H$1) | D23: =IF('WYSZUKAJ.PIONOWO zamiast JEŻELI'!$J28="","",_xlfn.FORMULATEXT('WYSZUKAJ.PIONOWO zamiast JEŻELI'!$J28)) -> =JEŻELI.BŁĄD(WYSZUKAJ.PIONOWO(H28;$M$9:$N$13;2);0) | E23: ={"=JEŻELI.BŁĄD(WYSZUKAJ.PIONOWO(H28;$M$9:$N$13;2);0)"} -> =JEŻELI.BŁĄD(WYSZUKAJ.PIONOWO(H28;$M$9:$N$13;2);0) | F23: =IFERROR(IF(D23="","",IF(D23=E23,"",$H$1)),$H$1)
A24: =IF('WYSZUKAJ.PIONOWO zamiast JEŻELI'!$I29="","",_xlfn.FORMULATEXT('WYSZUKAJ.PIONOWO zamiast JEŻELI'!$I29)) -> =JEŻELI(H29>=100%;"TAK";"NIE") | B24: ={"=JEŻELI(H29>=100%;""TAK"";""NIE"")"} -> =JEŻELI(H29>=100%;"TAK";"NIE") | C24: =IFERROR(IF(A24="","",IF(A24=B24,"",$H$1)),$H$1) | D24: =IF('WYSZUKAJ.PIONOWO zamiast JEŻELI'!$J29="","",_xlfn.FORMULATEXT('WYSZUKAJ.PIONOWO zamiast JEŻELI'!$J29)) -> =JEŻELI.BŁĄD(WYSZUKAJ.PIONOWO(H29;$M$9:$N$13;2);0) | E24: ={"=JEŻELI.BŁĄD(WYSZUKAJ.PIONOWO(H29;$M$9:$N$13;2);0)"} -> =JEŻELI.BŁĄD(WYSZUKAJ.PIONOWO(H29;$M$9:$N$13;2);0) | F24: =IFERROR(IF(D24="","",IF(D24=E24,"",$H$1)),$H$1)
A25: =IF('WYSZUKAJ.PIONOWO zamiast JEŻELI'!$I30="","",_xlfn.FORMULATEXT('WYSZUKAJ.PIONOWO zamiast JEŻELI'!$I30)) -> =JEŻELI(H30>=100%;"TAK";"NIE") | B25: ={"=JEŻELI(H30>=100%;""TAK"";""NIE"")"} -> =JEŻELI(H30>=100%;"TAK";"NIE") | C25: =IFERROR(IF(A25="","",IF(A25=B25,"",$H$1)),$H$1) | D25: =IF('WYSZUKAJ.PIONOWO zamiast JEŻELI'!$J30="","",_xlfn.FORMULATEXT('WYSZUKAJ.PIONOWO zamiast JEŻELI'!$J30)) -> =JEŻELI.BŁĄD(WYSZUKAJ.PIONOWO(H30;$M$9:$N$13;2);0) | E25: ={"=JEŻELI.BŁĄD(WYSZUKAJ.PIONOWO(H30;$M$9:$N$13;2);0)"} -> =JEŻELI.BŁĄD(WYSZUKAJ.PIONOWO(H30;$M$9:$N$13;2);0) | F25: =IFERROR(IF(D25="","",IF(D25=E25,"",$H$1)),$H$1)
A26: =IF('WYSZUKAJ.PIONOWO zamiast JEŻELI'!$I31="","",_xlfn.FORMULATEXT('WYSZUKAJ.PIONOWO zamiast JEŻELI'!$I31)) -> =JEŻELI(H31>=100%;"TAK";"NIE") | B26: ={"=JEŻELI(H31>=100%;""TAK"";""NIE"")"} -> =JEŻELI(H31>=100%;"TAK";"NIE") | C26: =IFERROR(IF(A26="","",IF(A26=B26,"",$H$1)),$H$1) | D26: =IF('WYSZUKAJ.PIONOWO zamiast JEŻELI'!$J31="","",_xlfn.FORMULATEXT('WYSZUKAJ.PIONOWO zamiast JEŻELI'!$J31)) -> =JEŻELI.BŁĄD(WYSZUKAJ.PIONOWO(H31;$M$9:$N$13;2);0) | E26: ={"=JEŻELI.BŁĄD(WYSZUKAJ.PIONOWO(H31;$M$9:$N$13;2);0)"} -> =JEŻELI.BŁĄD(WYSZUKAJ.PIONOWO(H31;$M$9:$N$13;2);0) | F26: =IFERROR(IF(D26="","",IF(D26=E26,"",$H$1)),$H$1)
A27: =IF('WYSZUKAJ.PIONOWO zamiast JEŻELI'!$I32="","",_xlfn.FORMULATEXT('WYSZUKAJ.PIONOWO zamiast JEŻELI'!$I32)) -> =JEŻELI(H32>=100%;"TAK";"NIE") | B27: ={"=JEŻELI(H32>=100%;""TAK"";""NIE"")"} -> =JEŻELI(H32>=100%;"TAK";"NIE") | C27: =IFERROR(IF(A27="","",IF(A27=B27,"",$H$1)),$H$1) | D27: =IF('WYSZUKAJ.PIONOWO zamiast JEŻELI'!$J32="","",_xlfn.FORMULATEXT('WYSZUKAJ.PIONOWO zamiast JEŻELI'!$J32)) -> =JEŻELI.BŁĄD(WYSZUKAJ.PIONOWO(H32;$M$9:$N$13;2);0) | E27: ={"=JEŻELI.BŁĄD(WYSZUKAJ.PIONOWO(H32;$M$9:$N$13;2);0)"} -> =JEŻELI.BŁĄD(WYSZUKAJ.PIONOWO(H32;$M$9:$N$13;2);0) | F27: =IFERROR(IF(D27="","",IF(D27=E27,"",$H$1)),$H$1)
