Workbook

Sheet Jak wyodrębnić inicjały cz.2
D1: Dariusz Popadeńczuk | F1: email: | G1: info@lubieExcela.pl
D3: Szkolenia, kursy, porady, pomoc w Excelu | G3: JAK WYODRĘBNIĆ INICJAŁY cz.2
C7: Imię | D7: Nazwisko | E7: Inicjały | H7: =IF(o!C3="","",o!C3) -> BRAWO!!! Zadanie wykonane prawidłowo :)
C8: Maciej | D8: Dąb | E8: =LEFT(C8,1)&"."&LEFT(D8,1)&"." -> M.D.
C9: Marta | D9: Wierzba-Nowak | E9: =LEFT(C9,1)&"."&LEFT(D9,1)&"."&MID(D9,SEARCH("-",D9)+1,1)&"." -> M.W.N.
C10: Hanna | D10: Słoneczna | E10: =LEFT(C10,1)&"."&LEFT(D10,1)&"."&IFERROR(MID(D10,SEARCH("-",D10)+1,1)&".","") -> H.S.
C11: Agnieszka | D11: Brzoza-Kowalska | E11: =LEFT(C11,1)&"."&LEFT(D11,1)&"."&IFERROR(MID(D11,SEARCH("-",D11)+1,1)&".","") -> A.B.K.
C12: Piotr | D12: Chełmiński | E12: =LEFT(C12,1)&"."&LEFT(D12,1)&"."&IFERROR(MID(D12,SEARCH("-",D12)+1,1)&".","") -> P.C.
D14: Imie Nazwisko
D15: Agnieszka Słoneczna-Dąb | E15: =LEFT(D15,1)&"."&MID(D15,SEARCH(" ",D15)+1,1)&"."&IFERROR(MID(D15,SEARCH("-",D15)+1,1)&".","") -> A.S.D.
D16: Michał Wolański | E16: =LEFT(D16,1)&"."&MID(D16,SEARCH(" ",D16)+1,1)&"."&IFERROR(MID(D16,SEARCH("-",D16)+1,1)&".","") -> M.W.
C18: Początek inicjałów z Ch | H18: =IF(o!C12="","",o!C12)
C19: Imię | D19: Nazwisko | E19: Inicjały
C20: Christine | D20: Chowak-Chełmińska
C21: Szymon | D21: Cholewa
C23: Początek inicjałów z Ch, Sz, Rz, Cz | G23: Niepoprawnie pod kątem pisowni inicjałów w języku polskim
C24: Czesława | D24: Cholewa-Żabka
C25: Szymon | D25: Chełmiński
C26: Czesława | D26: Rzepka-Cholewa
C28: LEWY("lubieExcela.pl";11) | E28: =LEFT("lubieExcela.pl",11) -> lubieExcela
C29: FRAGMENT.TEKSTU("lubieExcela.pl";1;11) | E29: =MID("lubieExcela.pl",1,11) -> lubieExcela
C30: SZUKAJ.TEKST("pl";"lubieExcela.pl") | E30: =SEARCH("pl","lubieExcela.pl") -> 13
C31: JEŻELI.BŁĄD(E20;"Komunikat o błędzie") | E31: =IFERROR(E29,"Komunikat o błędzie lub działanie") -> lubieExcela

Sheet o
A1: Sprawdzanie błędów © 2020 lubieExcela.pl | Dariusz Popadeńczuk | B1: ="Formuła nie jest identyczna jak w zadaniu - komórka: "&_xlfn.TEXTJOIN(", ",TRUE,C4:C10)&"." -> Formuła nie jest identyczna jak w zadaniu - komórka: . | C1: ="Formuła w następujących komórkach nie jest identyczna jak w zadaniu: "&_xlfn.TEXTJOIN(", ",TRUE,C4:C10)&"." -> Formuła w następujących komórkach nie jest identyczna jak w zadaniu: .
C2: =COUNTBLANK(C4:C10) -> 7
C3: =IF( COUNTIF(C4:C10,"> ")=1,B1, IF(COUNTIF(C4:C10,"> ")>1,C1, IF(E3>0,"", IF(COUNTIF(C4:C10," ")=0,"BRAWO!!! Zadanie wykonane prawidłowo :)", IF(COUNTBLANK(C4:C10)=7,"" ))))) -> BRAWO!!! Zadanie wykonane prawidłowo :) | D3: =COUNTIF($C$4:$C$10,"> ") -> 0 | E3: =COUNTIF(D4:D10,TRUE) -> 0
A4: =IF('Jak wyodrębnić inicjały cz.2'!E8="","",_xlfn.FORMULATEXT('Jak wyodrębnić inicjały cz.2'!E8)) -> =LEWY(C8;1)&"."&LEWY(D8;1)&"." | B4: =LEWY(C8;1)&"."&LEWY(D8;1)&"." | C4: =IFERROR(IF(A4="","",IF(A4=B4,"",ADDRESS(ROW('Jak wyodrębnić inicjały cz.2'!E8),COLUMN('Jak wyodrębnić inicjały cz.2'!E8),4,1))),ADDRESS(ROW('Jak wyodrębnić inicjały cz.2'!E8),COLUMN('Jak wyodrębnić inicjały cz.2'!E8),4,1)) | D4: =ISBLANK('Jak wyodrębnić inicjały cz.2'!E8) -> FALSE
A5: =IF('Jak wyodrębnić inicjały cz.2'!E9="","",_xlfn.FORMULATEXT('Jak wyodrębnić inicjały cz.2'!E9)) -> =LEWY(C9;1)&"."&LEWY(D9;1)&"."&FRAGMENT.TEKSTU(D9;SZUKAJ.TEKST("-";D9)+1;1)&"." | B5: =LEWY(C9;1)&"."&LEWY(D9;1)&"."&FRAGMENT.TEKSTU(D9;SZUKAJ.TEKST("-";D9)+1;1)&"." | C5: =IFERROR(IF(A5="","",IF(A5=B5,"",ADDRESS(ROW('Jak wyodrębnić inicjały cz.2'!E9),COLUMN('Jak wyodrębnić inicjały cz.2'!E9),4,1))),ADDRESS(ROW('Jak wyodrębnić inicjały cz.2'!E9),COLUMN('Jak wyodrębnić inicjały cz.2'!E9),4,1)) | D5: =ISBLANK('Jak wyodrębnić inicjały cz.2'!E9) -> FALSE
A6: =IF('Jak wyodrębnić inicjały cz.2'!E10="","",_xlfn.FORMULATEXT('Jak wyodrębnić inicjały cz.2'!E10)) -> =LEWY(C10;1)&"."&LEWY(D10;1)&"."&JEŻELI.BŁĄD(FRAGMENT.TEKSTU(D10;SZUKAJ.TEKST("-";D10)+1;1)&".";"") | B6: =LEWY(C10;1)&"."&LEWY(D10;1)&"."&JEŻELI.BŁĄD(FRAGMENT.TEKSTU(D10;SZUKAJ.TEKST("-";D10)+1;1)&".";"") | C6: =IFERROR(IF(A6="","",IF(A6=B6,"",ADDRESS(ROW('Jak wyodrębnić inicjały cz.2'!E10),COLUMN('Jak wyodrębnić inicjały cz.2'!E10),4,1))),ADDRESS(ROW('Jak wyodrębnić inicjały cz.2'!E10),COLUMN('Jak wyodrębnić inicjały cz.2'!E10),4,1)) | D6: =ISBLANK('Jak wyodrębnić inicjały cz.2'!E10) -> FALSE
A7: =IF('Jak wyodrębnić inicjały cz.2'!E11="","",_xlfn.FORMULATEXT('Jak wyodrębnić inicjały cz.2'!E11)) -> =LEWY(C11;1)&"."&LEWY(D11;1)&"."&JEŻELI.BŁĄD(FRAGMENT.TEKSTU(D11;SZUKAJ.TEKST("-";D11)+1;1)&".";"") | B7: =LEWY(C11;1)&"."&LEWY(D11;1)&"."&JEŻELI.BŁĄD(FRAGMENT.TEKSTU(D11;SZUKAJ.TEKST("-";D11)+1;1)&".";"") | C7: =IFERROR(IF(A7="","",IF(A7=B7,"",ADDRESS(ROW('Jak wyodrębnić inicjały cz.2'!E11),COLUMN('Jak wyodrębnić inicjały cz.2'!E11),4,1))),ADDRESS(ROW('Jak wyodrębnić inicjały cz.2'!E11),COLUMN('Jak wyodrębnić inicjały cz.2'!E11),4,1)) | D7: =ISBLANK('Jak wyodrębnić inicjały cz.2'!E11) -> FALSE
A8: =IF('Jak wyodrębnić inicjały cz.2'!E12="","",_xlfn.FORMULATEXT('Jak wyodrębnić inicjały cz.2'!E12)) -> =LEWY(C12;1)&"."&LEWY(D12;1)&"."&JEŻELI.BŁĄD(FRAGMENT.TEKSTU(D12;SZUKAJ.TEKST("-";D12)+1;1)&".";"") | B8: =LEWY(C12;1)&"."&LEWY(D12;1)&"."&JEŻELI.BŁĄD(FRAGMENT.TEKSTU(D12;SZUKAJ.TEKST("-";D12)+1;1)&".";"") | C8: =IFERROR(IF(A8="","",IF(A8=B8,"",ADDRESS(ROW('Jak wyodrębnić inicjały cz.2'!E12),COLUMN('Jak wyodrębnić inicjały cz.2'!E12),4,1))),ADDRESS(ROW('Jak wyodrębnić inicjały cz.2'!E12),COLUMN('Jak wyodrębnić inicjały cz.2'!E12),4,1)) | D8: =ISBLANK('Jak wyodrębnić inicjały cz.2'!E12) -> FALSE
A9: =IF('Jak wyodrębnić inicjały cz.2'!E15="","",_xlfn.FORMULATEXT('Jak wyodrębnić inicjały cz.2'!E15)) -> =LEWY(D15;1)&"."&FRAGMENT.TEKSTU(D15;SZUKAJ.TEKST(" ";D15)+1;1)&"."&JEŻELI.BŁĄD(FRAGMENT.TEKSTU(D15;SZUKAJ.TEKST("-";D15)+1;1)&".";"") | B9: =LEWY(D15;1)&"."&FRAGMENT.TEKSTU(D15;SZUKAJ.TEKST(" ";D15)+1;1)&"."&JEŻELI.BŁĄD(FRAGMENT.TEKSTU(D15;SZUKAJ.TEKST("-";D15)+1;1)&".";"") | C9: =IFERROR(IF(A9="","",IF(A9=B9,"",ADDRESS(ROW('Jak wyodrębnić inicjały cz.2'!E15),COLUMN('Jak wyodrębnić inicjały cz.2'!E15),4,1))),ADDRESS(ROW('Jak wyodrębnić inicjały cz.2'!E15),COLUMN('Jak wyodrębnić inicjały cz.2'!E15),4,1)) | D9: =ISBLANK('Jak wyodrębnić inicjały cz.2'!E15) -> FALSE
A10: =IF('Jak wyodrębnić inicjały cz.2'!E16="","",_xlfn.FORMULATEXT('Jak wyodrębnić inicjały cz.2'!E16)) -> =LEWY(D16;1)&"."&FRAGMENT.TEKSTU(D16;SZUKAJ.TEKST(" ";D16)+1;1)&"."&JEŻELI.BŁĄD(FRAGMENT.TEKSTU(D16;SZUKAJ.TEKST("-";D16)+1;1)&".";"") | B10: =LEWY(D16;1)&"."&FRAGMENT.TEKSTU(D16;SZUKAJ.TEKST(" ";D16)+1;1)&"."&JEŻELI.BŁĄD(FRAGMENT.TEKSTU(D16;SZUKAJ.TEKST("-";D16)+1;1)&".";"") | C10: =IFERROR(IF(A10="","",IF(A10=B10,"",ADDRESS(ROW('Jak wyodrębnić inicjały cz.2'!E16),COLUMN('Jak wyodrębnić inicjały cz.2'!E16),4,1))),ADDRESS(ROW('Jak wyodrębnić inicjały cz.2'!E16),COLUMN('Jak wyodrębnić inicjały cz.2'!E16),4,1)) | D10: =ISBLANK('Jak wyodrębnić inicjały cz.2'!E16) -> FALSE
C11: =COUNTBLANK(C13:C17) -> 5
C12: =IF( COUNTIF(C13:C17,"> ")=1,B18, IF(COUNTIF(C13:C17,"> ")>1,C18, IF(E12>0,"", IF(COUNTIF(C13:C17," ")=0,"BRAWO!!! Drugie zadanie wykonane prawidłowo :)", IF(COUNTBLANK(C13:C17)=5,"" ))))) | D12: =COUNTIF($C$13:$C$17,"> ") -> 0 | E12: =COUNTIF(D13:D17,TRUE) -> 5
A13: =CLEAN(IF('Jak wyodrębnić inicjały cz.2'!E20="","",_xlfn.FORMULATEXT('Jak wyodrębnić inicjały cz.2'!E20))) | B13: =LEWY(C20;JEŻELI(LEWY(C20;2)="ch";2;1))&"."&LEWY(D20;JEŻELI(LEWY(D20;2)="ch";2;1))&"."&JEŻELI.BŁĄD(FRAGMENT.TEKSTU(D20;SZUKAJ.TEKST("-";D20)+1;JEŻELI(FRAGMENT.TEKSTU(D20;SZUKAJ.TEKST("-";D20)+1;2)="ch";2;1))&".";"") | C13: =IFERROR(IF(A13="","",IF(CLEAN(A13)=CLEAN(B13),"",ADDRESS(ROW('Jak wyodrębnić inicjały cz.2'!E20),COLUMN('Jak wyodrębnić inicjały cz.2'!E20),4,1))),ADDRESS(ROW('Jak wyodrębnić inicjały cz.2'!E20),COLUMN('Jak wyodrębnić inicjały cz.2'!E20),4,1)) | D13: =ISBLANK('Jak wyodrębnić inicjały cz.2'!E20) -> TRUE | E13: ='Jak wyodrębnić inicjały cz.2'!E20 -> 0
A14: =CLEAN(IF('Jak wyodrębnić inicjały cz.2'!E21="","",_xlfn.FORMULATEXT('Jak wyodrębnić inicjały cz.2'!E21))) | B14: =LEWY(C21;JEŻELI(LEWY(C21;2)="ch";2;1))&"."&LEWY(D21;JEŻELI(LEWY(D21;2)="ch";2;1))&"."&JEŻELI.BŁĄD(FRAGMENT.TEKSTU(D21;SZUKAJ.TEKST("-";D21)+1;JEŻELI(FRAGMENT.TEKSTU(D21;SZUKAJ.TEKST("-";D21)+1;2)="ch";2;1))&".";"") | C14: =IFERROR(IF(A14="","",IF(CLEAN(A14)=CLEAN(B14),"",ADDRESS(ROW('Jak wyodrębnić inicjały cz.2'!E21),COLUMN('Jak wyodrębnić inicjały cz.2'!E21),4,1))),ADDRESS(ROW('Jak wyodrębnić inicjały cz.2'!E21),COLUMN('Jak wyodrębnić inicjały cz.2'!E21),4,1)) | D14: =ISBLANK('Jak wyodrębnić inicjały cz.2'!E21) -> TRUE | E14: ='Jak wyodrębnić inicjały cz.2'!E21 -> 0
A15: =CLEAN(IF('Jak wyodrębnić inicjały cz.2'!E24="","",_xlfn.FORMULATEXT('Jak wyodrębnić inicjały cz.2'!E24))) | B15: =LEWY(C24;JEŻELI(LUB(LEWY(C24;2)="ch";LEWY(C24;2)="sz";LEWY(C24;2)="rz";LEWY(C24;2)="cz");2;1))&"."&LEWY(D24;JEŻELI(LUB(LEWY(D24;2)="ch";LEWY(D24;2)="sz";LEWY(D24;2)="rz";LEWY(D24;2)="cz");2;1))&"."&JEŻELI.BŁĄD(FRAGMENT.TEKSTU(D24;SZUKAJ.TEKST("-";D24)+1;JEŻELI(LUB(FRAGMENT.TEKSTU(D24;SZUKAJ.TEKST("-";D24)+1;2)="ch";FRAGMENT.TEKSTU(D24;SZUKAJ.TEKST("-";D24)+1;2)="sz";FRAGMENT.TEKSTU(D24;SZUKAJ.TEKST("-";D24)+1;2)="rz";FRAGMENT.TEKSTU(D24;SZUKAJ.TEKST("-";D24)+1;2)="cz");2;1))&".";"") | C15: =IFERROR(IF(A15="","",IF(CLEAN(A15)=CLEAN(B15),"",ADDRESS(ROW('Jak wyodrębnić inicjały cz.2'!E22),COLUMN('Jak wyodrębnić inicjały cz.2'!E22),4,1))),ADDRESS(ROW('Jak wyodrębnić inicjały cz.2'!E22),COLUMN('Jak wyodrębnić inicjały cz.2'!E22),4,1)) | D15: =ISBLANK('Jak wyodrębnić inicjały cz.2'!E24) -> TRUE | E15: ='Jak wyodrębnić inicjały cz.2'!E24 -> 0
A16: =CLEAN(IF('Jak wyodrębnić inicjały cz.2'!E25="","",_xlfn.FORMULATEXT('Jak wyodrębnić inicjały cz.2'!E25))) | B16: =LEWY(C25;JEŻELI(LUB(LEWY(C25;2)="ch";LEWY(C25;2)="sz";LEWY(C25;2)="rz";LEWY(C25;2)="cz");2;1))&"."&LEWY(D25;JEŻELI(LUB(LEWY(D25;2)="ch";LEWY(D25;2)="sz";LEWY(D25;2)="rz";LEWY(D25;2)="cz");2;1))&"."&JEŻELI.BŁĄD(FRAGMENT.TEKSTU(D25;SZUKAJ.TEKST("-";D25)+1;JEŻELI(LUB(FRAGMENT.TEKSTU(D25;SZUKAJ.TEKST("-";D25)+1;2)="ch";FRAGMENT.TEKSTU(D25;SZUKAJ.TEKST("-";D25)+1;2)="sz";FRAGMENT.TEKSTU(D25;SZUKAJ.TEKST("-";D25)+1;2)="rz";FRAGMENT.TEKSTU(D25;SZUKAJ.TEKST("-";D25)+1;2)="cz");2;1))&".";"") | C16: =IFERROR(IF(A16="","",IF(CLEAN(A16)=CLEAN(B16),"",ADDRESS(ROW('Jak wyodrębnić inicjały cz.2'!E23),COLUMN('Jak wyodrębnić inicjały cz.2'!E23),4,1))),ADDRESS(ROW('Jak wyodrębnić inicjały cz.2'!E23),COLUMN('Jak wyodrębnić inicjały cz.2'!E23),4,1)) | D16: =ISBLANK('Jak wyodrębnić inicjały cz.2'!E25) -> TRUE | E16: ='Jak wyodrębnić inicjały cz.2'!E25 -> 0
A17: =CLEAN(IF('Jak wyodrębnić inicjały cz.2'!E26="","",_xlfn.FORMULATEXT('Jak wyodrębnić inicjały cz.2'!E26))) | B17: =LEWY(C26;JEŻELI(LUB(LEWY(C26;2)="ch";LEWY(C26;2)="sz";LEWY(C26;2)="rz";LEWY(C26;2)="cz");2;1))&"."&LEWY(D26;JEŻELI(LUB(LEWY(D26;2)="ch";LEWY(D26;2)="sz";LEWY(D26;2)="rz";LEWY(D26;2)="cz");2;1))&"."&JEŻELI.BŁĄD(FRAGMENT.TEKSTU(D26;SZUKAJ.TEKST("-";D26)+1;JEŻELI(LUB(FRAGMENT.TEKSTU(D26;SZUKAJ.TEKST("-";D26)+1;2)="ch";FRAGMENT.TEKSTU(D26;SZUKAJ.TEKST("-";D26)+1;2)="sz";FRAGMENT.TEKSTU(D26;SZUKAJ.TEKST("-";D26)+1;2)="rz";FRAGMENT.TEKSTU(D26;SZUKAJ.TEKST("-";D26)+1;2)="cz");2;1))&".";"") | C17: =IFERROR(IF(A17="","",IF(CLEAN(A17)=CLEAN(B17),"",ADDRESS(ROW('Jak wyodrębnić inicjały cz.2'!E24),COLUMN('Jak wyodrębnić inicjały cz.2'!E24),4,1))),ADDRESS(ROW('Jak wyodrębnić inicjały cz.2'!E24),COLUMN('Jak wyodrębnić inicjały cz.2'!E24),4,1)) | D17: =ISBLANK('Jak wyodrębnić inicjały cz.2'!E26) -> TRUE | E17: ='Jak wyodrębnić inicjały cz.2'!E26 -> 0
B18: ="Formuła nie jest identyczna jak w zadaniu - komórka: "&_xlfn.TEXTJOIN(", ",TRUE,C13:C17)&"." -> Formuła nie jest identyczna jak w zadaniu - komórka: . | C18: ="Formuła w następujących komórkach nie jest identyczna jak w zadaniu: "&_xlfn.TEXTJOIN(", ",TRUE,C13:C17)&"." -> Formuła w następujących komórkach nie jest identyczna jak w zadaniu: .
